BEGIN:VCALENDAR
VERSION:2.0
PRODID:-//wp-events-plugin.com//6.6.4.4//EN
BEGIN:VEVENT
UID:268@a-mas.net
DTSTART:20231201T000000Z
DTEND:20231201T000000Z
DTSTAMP:20231129T162603Z
URL:https://a-mas.net/eventos/abismes-montserrat/
SUMMARY:Un segle d'abismes · Montserrat
DESCRIPTION:Viernes\, 1 de diciembre · 20:00 horas\nCasa de la Cultura de 
 Montserrat\, València \n\nVERSIÓN ITINERANTE\n\nINFORMACIÓN SOBRE EL ES
 PECTÁCULO
ATTACH;FMTTYPE=image/jpeg:https://a-mas.net/wp-content/uploads/2023/01/abi
 smos-principal.jpg
CATEGORIES:Público joven y adulto,Teatro
END:VEVENT
END:VCALENDAR