BEGIN:VCALENDAR
VERSION:2.0
PRODID:-//wp-events-plugin.com//6.6.4.4//EN
BEGIN:VEVENT
UID:1029@a-mas.net
DTSTART:20250404T000000Z
DTEND:20250404T000000Z
DTSTAMP:20250326T074013Z
URL:https://a-mas.net/eventos/arcangeles-mostra-visible-alicante/
SUMMARY:ARCÁNGELES | Mostra Visible-Alicante
DESCRIPTION:Arcángeles de Alarcón&amp\;Cornelles\n\,  20:30h en Teatre A
 rniches\n\n&nbsp\;\n
ATTACH;FMTTYPE=image/jpeg:https://a-mas.net/wp-content/uploads/2024/12/arc
 angeles-1.png
CATEGORIES:Público joven y adulto,Teatro
END:VEVENT
END:VCALENDAR