BEGIN:VCALENDAR
VERSION:2.0
PRODID:-//wp-events-plugin.com//6.6.4.4//EN
BEGIN:VEVENT
UID:181@a-mas.net
DTSTART:20230819T000000Z
DTEND:20230819T000000Z
DTSTAMP:20230805T174308Z
URL:https://a-mas.net/eventos/babo-royal-xativa/
SUMMARY:Babo Royal · Fira d'Agost Xàtiva
DESCRIPTION:Fira d'Agost Xàtiva\, València\nCOMPAÑÍA: Ganso&amp\;Cia
ATTACH;FMTTYPE=image/jpeg:https://a-mas.net/wp-content/uploads/2023/01/bab
 o-royal-principal.jpg
CATEGORIES:Circo,Público infantil y familiar,Teatro
END:VEVENT
END:VCALENDAR