BEGIN:VCALENDAR
VERSION:2.0
PRODID:-//wp-events-plugin.com//6.6.4.4//EN
BEGIN:VEVENT
UID:179@a-mas.net
DTSTART:20230814T000000Z
DTEND:20230814T000000Z
DTSTAMP:20230805T173858Z
URL:https://a-mas.net/eventos/baktana-capellades/
SUMMARY:Baktana · Capellades
DESCRIPTION:Capellades\, Barcelona\nCOMPAÑÍA: Lazuz Company
ATTACH;FMTTYPE=image/jpeg:https://a-mas.net/wp-content/uploads/2023/01/bak
 tana-galeria-2.jpg
CATEGORIES:Circo,Todos los públicos
END:VEVENT
END:VCALENDAR