BEGIN:VCALENDAR
VERSION:2.0
PRODID:-//wp-events-plugin.com//6.6.4.4//EN
BEGIN:VEVENT
UID:5@a-mas.net
DTSTART:20230401T110000Z
DTEND:20230401T113000Z
DTSTAMP:20230320T152846Z
URL:https://a-mas.net/eventos/baktana-igualada/
SUMMARY:Baktana | Mostra Igualada
DESCRIPTION:BAKTANA\, de Lazuz Company\nMostra Igualada. 1 de abril\, 11:00
  + 17:30 horas (doble función)\nPlaça del Rei\, Igualada\, Barcelona\nCi
 rco\, danza acrobática | Todos los públicos (+ 5 años) | 30 minutos\n\n
 SINOPSIS: ‘Baktana’ narra el encuentro entre dos hombres: un malabaris
 ta obsesionado por su mundo de objetos volantes y un acróbata que solo se
  expresa a través del movimiento.
ATTACH;FMTTYPE=image/jpeg:https://a-mas.net/wp-content/uploads/2023/01/bak
 tana-principal.jpg
CATEGORIES:Circo,Todos los públicos
END:VEVENT
END:VCALENDAR