BEGIN:VCALENDAR
VERSION:2.0
PRODID:-//wp-events-plugin.com//6.6.4.4//EN
BEGIN:VEVENT
UID:195@a-mas.net
DTSTART:20230908T000000Z
DTEND:20230908T000000Z
DTSTAMP:20230915T082125Z
URL:https://a-mas.net/eventos/baktana-sopela/
SUMMARY:Baktana · Sopela
DESCRIPTION:Sopela\nCOMPAÑÍA: Lazuz Company
ATTACH;FMTTYPE=image/jpeg:https://a-mas.net/wp-content/uploads/2023/01/bak
 tana-galeria-2.jpg
CATEGORIES:Circo,Público infantil y familiar,Todos los públicos
END:VEVENT
END:VCALENDAR