BEGIN:VCALENDAR
VERSION:2.0
PRODID:-//wp-events-plugin.com//6.6.4.4//EN
BEGIN:VEVENT
UID:99@a-mas.net
DTSTART:20230519T000000Z
DTEND:20230520T000000Z
DTSTAMP:20230518T132004Z
URL:https://a-mas.net/eventos/baktana-umore-azoka/
SUMMARY:Baktana · Umore Azoka Leioa
DESCRIPTION:19-20 de mayo · 19:30 horas\nUmore Azoka Leioa 2023\n\nINFORMA
 CIÓN SOBRE EL ESPECTÁCULO
ATTACH;FMTTYPE=image/jpeg:https://a-mas.net/wp-content/uploads/2023/01/bak
 tana-galeria-2.jpg
CATEGORIES:Circo,Público infantil y familiar
END:VEVENT
END:VCALENDAR