BEGIN:VCALENDAR
VERSION:2.0
PRODID:-//wp-events-plugin.com//6.6.4.4//EN
BEGIN:VEVENT
UID:987@a-mas.net
DTSTART:20250314T000000Z
DTEND:20250314T000000Z
DTSTAMP:20250224T121854Z
URL:https://a-mas.net/eventos/boges-cau-la-nit-uji-castellon/
SUMMARY:BOGES\, Cau la Nit | UJI-Castellón
DESCRIPTION:Boges\, Cau la Nit de Bramant Teatre (Versión itinerante)\n\, 
 19:30h Universitat Jaume I (3 pases)
ATTACH;FMTTYPE=image/jpeg:https://a-mas.net/wp-content/uploads/2024/06/pri
 ncipal-boges.png
CATEGORIES:Público joven y adulto,Teatro
END:VEVENT
END:VCALENDAR