BEGIN:VCALENDAR
VERSION:2.0
PRODID:-//wp-events-plugin.com//6.6.4.4//EN
BEGIN:VEVENT
UID:286@a-mas.net
DTSTART:20231213T000000Z
DTEND:20231213T000000Z
DTSTAMP:20231226T111323Z
URL:https://a-mas.net/eventos/cemn-manresa/
SUMMARY:Cuál es mi nombre · Manresa
DESCRIPTION:Manresa\, Barcelona\nCOMPAÑÍA: Da.te Danza
ATTACH;FMTTYPE=image/jpeg:https://a-mas.net/wp-content/uploads/2023/01/cua
 l-es-mi-nombre-galeria-1.jpg
CATEGORIES:Danza,Público infantil y familiar
END:VEVENT
END:VCALENDAR