BEGIN:VCALENDAR
VERSION:2.0
PRODID:-//wp-events-plugin.com//6.6.4.4//EN
BEGIN:VEVENT
UID:350@a-mas.net
DTSTART:20240217T000000Z
DTEND:20240217T000000Z
DTSTAMP:20240119T131308Z
URL:https://a-mas.net/eventos/circo-alas-almassora/
SUMMARY:Circo Alas · Almassora
DESCRIPTION:Almassora\, Castelló\nCOMPAÑÍA: Alas Circo Teatro
ATTACH;FMTTYPE=image/jpeg:https://a-mas.net/wp-content/uploads/2023/01/cir
 co-alas-principal.jpg
CATEGORIES:Circo,Público infantil y familiar
END:VEVENT
END:VCALENDAR