BEGIN:VCALENDAR
VERSION:2.0
PRODID:-//wp-events-plugin.com//6.6.4.4//EN
BEGIN:VEVENT
UID:8@a-mas.net
DTSTART:20230402T180000Z
DTEND:20230402T184500Z
DTSTAMP:20230320T170050Z
URL:https://a-mas.net/eventos/cual-es-mi-nombre-noain/
SUMMARY:Cuál es mi nombre | Noáin
DESCRIPTION:CUÁL ES MI NOMBRE\, de DA.TE Danza\nCentro Cultural de Noáin\
 , Navarra. 2 de abril\, 18:00h.\nDanza contemporánea | Público infantil 
 y familiar (de 2 a 6 años) | 45 minutos\n\nSINOPSIS: La identidad de cada
  niño o niña madura durante el camino\, y su nombre solo es el punto de 
 partida. Juguemos a ser cualquier cosa o persona\, será divertido. Un sof
 á que es un tren\, una alfombra convertida en espejo\, una montaña de c
 ésped que se mueve\, lámparas de amapola\, y tú y yo. ¿Acaso importa c
 ómo te llames? Cada objeto puede tener una utilidad y forma muy distinta 
 a la que vemos\, todo y todos podemos convertirnos en lo que imaginemos\, 
 en un globo\, en un sillón\, en ti.
ATTACH;FMTTYPE=image/jpeg:https://a-mas.net/wp-content/uploads/2023/01/cua
 l-es-mi-nombre-principal.jpg
CATEGORIES:Danza,Público infantil y familiar
LOCATION:Centro Cultural de Noáin\, C/ Real\, 10\, Noáin\, Navarra\, 3111
 0\, España
X-APPLE-STRUCTURED-LOCATION;VALUE=URI;X-ADDRESS=C/ Real\, 10\, Noáin\, Nav
 arra\, 31110\, España;X-APPLE-RADIUS=100;X-TITLE=Centro Cultural de Noái
 n:geo:0,0
END:VEVENT
END:VCALENDAR