BEGIN:VCALENDAR
VERSION:2.0
PRODID:-//wp-events-plugin.com//6.6.4.4//EN
BEGIN:VEVENT
UID:977@a-mas.net
DTSTART:20240308T000000Z
DTEND:20240308T000000Z
DTSTAMP:20250224T103600Z
URL:https://a-mas.net/eventos/dentro-del-corazon-del-mundo-sevilla/
SUMMARY:DENTRO DEL CORAZÓN DEL MUNDO |  Sevilla
DESCRIPTION:Dentro del corazón del mundo de Engruna Teatre\n\, 18h Teatro 
 Alameda\n\n&nbsp\;
ATTACH;FMTTYPE=image/jpeg:https://a-mas.net/wp-content/uploads/2023/09/cor
 azon-gal-1.jpg
CATEGORIES:Público infantil y familiar,Teatro
END:VEVENT
END:VCALENDAR