BEGIN:VCALENDAR
VERSION:2.0
PRODID:-//wp-events-plugin.com//6.6.4.4//EN
BEGIN:VEVENT
UID:292@a-mas.net
DTSTART:20231216T000000Z
DTEND:20231216T000000Z
DTSTAMP:20231226T112707Z
URL:https://a-mas.net/eventos/diago-albal/
SUMMARY:Nacho Diago · Albal
DESCRIPTION:Parc Sant Carles\, Albal\nCOMPAÑÍA: Nacho Diago
ATTACH;FMTTYPE=image/jpeg:https://a-mas.net/wp-content/uploads/2023/01/noc
 illa-galeria-1.jpg
CATEGORIES:Magia,Público infantil y familiar,Teatro
END:VEVENT
END:VCALENDAR