BEGIN:VCALENDAR
VERSION:2.0
PRODID:-//wp-events-plugin.com//6.6.4.4//EN
BEGIN:VEVENT
UID:189@a-mas.net
DTSTART:20230901T000000Z
DTEND:20230901T000000Z
DTSTAMP:20230805T175514Z
URL:https://a-mas.net/eventos/ehyh-albacete/
SUMMARY:Entre hilos y huesos · Albacete
DESCRIPTION:Albacete\nCOMPAÑÍA: DDCdanza - Daniel Doña
CATEGORIES:Danza,Flamenco,Público joven y adulto
END:VEVENT
END:VCALENDAR