BEGIN:VCALENDAR
VERSION:2.0
PRODID:-//wp-events-plugin.com//6.6.4.4//EN
BEGIN:VEVENT
UID:24@a-mas.net
DTSTART:20230421T203000Z
DTEND:20230421T212000Z
DTSTAMP:20230320T183131Z
URL:https://a-mas.net/eventos/el-cuento-de-persepolis-molina/
SUMMARY:El cuento de Persépolis | Molina de Segura
DESCRIPTION:EL CUENTO DE PERSÉPOLIS\, de La Coja Dansa\nTeatro Villa de Mo
 lina\, Molina de Segura\, Murcia. 21 de abril\, 20:30h.\nDanza contemporá
 nea\, videomapping | Público infantil y familiar (de 6 a 12 años) | 50 m
 inutos\n\nSINOPSIS: Una historia de ciencia ficción para imaginar mundos 
 alternativos. Dos niñas de diferentes planetas encuentran el libro de Pe
 rsépolis\, de Marjane Satrapi. Su lectura les generará preguntas sobre l
 a situación de las mujeres en la Historia. A partir de aquí\, ambas empr
 enderán un viaje por el espacio y el tiempo que les llevará a encontrars
 e en un punto común. Con El cuento de Persépolis\, La Coja Dansa quiere
  rendir homenaje a las escritoras de ciencia ficción que con sus obras li
 terarias han cuestionado\, desde los márgenes\, el estatus de las mujeres
  y sus constantes pérdidas de derechos. Un montaje de extraordinaria bell
 eza con un ritmo adecuado para las ávidas miradas de la infancia. Una pie
 za donde confluyen el cómic\, la danza\, el videomapping y el cine con un
 os resultados sorprendentes.
ATTACH;FMTTYPE=image/jpeg:https://a-mas.net/wp-content/uploads/2023/01/per
 sepolis-principal.jpg
CATEGORIES:Danza,Público infantil y familiar
LOCATION:Teatro Villa de Molina\, Avenida del Chorrico\, 10\, Molina de Seg
 ura\, Murcia\, 30500\, España
X-APPLE-STRUCTURED-LOCATION;VALUE=URI;X-ADDRESS=Avenida del Chorrico\, 10\,
  Molina de Segura\, Murcia\, 30500\, España;X-APPLE-RADIUS=100;X-TITLE=Te
 atro Villa de Molina:geo:0,0
END:VEVENT
END:VCALENDAR