BEGIN:VCALENDAR
VERSION:2.0
PRODID:-//wp-events-plugin.com//6.6.4.4//EN
BEGIN:VEVENT
UID:711@a-mas.net
DTSTART:20241026T000000Z
DTEND:20241026T000000Z
DTSTAMP:20240930T113432Z
URL:https://a-mas.net/eventos/estreno-el-oso-alacant/
SUMMARY:ESTRENO EL OSO  | Alacant
DESCRIPTION:ESTRENO El Oso de Marroch\n\, 2030h  en Teatre Arniches
ATTACH;FMTTYPE=image/jpeg:https://a-mas.net/wp-content/uploads/2023/11/el-
 oso-prov.jpg
CATEGORIES:Danza,Público joven y adulto
END:VEVENT
END:VCALENDAR