BEGIN:VCALENDAR
VERSION:2.0
PRODID:-//wp-events-plugin.com//6.6.4.4//EN
BEGIN:VEVENT
UID:449@a-mas.net
DTSTART:20240601T000000Z
DTEND:20240601T000000Z
DTSTAMP:20240502T100946Z
URL:https://a-mas.net/eventos/estreno-princesas-caballeros-i-dragones-vale
 ncia-3/
SUMMARY:ESTRENO | Princesas\, caballeros i dragones | Valencia
DESCRIPTION:Princesas\, caballeros i dragones. El día que dejamos de ser n
 iños  de Bramant Teatre\n\n\, 20:00 h Teatre Principal de València
END:VEVENT
END:VCALENDAR