BEGIN:VCALENDAR
VERSION:2.0
PRODID:-//wp-events-plugin.com//6.6.4.4//EN
BEGIN:VEVENT
UID:266@a-mas.net
DTSTART:20231028T000000Z
DTEND:20231028T000000Z
DTSTAMP:20231011T111339Z
URL:https://a-mas.net/eventos/hanle-carcaixent/
SUMMARY:Hanle · Carcaixent
DESCRIPTION:Festival de Teatre de Carcaixent\, València\nCOMPAÑÍA: Leamo
 k
ATTACH;FMTTYPE=image/jpeg:https://a-mas.net/wp-content/uploads/2023/01/han
 le-galeria-1.jpg
CATEGORIES:Público joven y adulto,Teatro
END:VEVENT
END:VCALENDAR