BEGIN:VCALENDAR
VERSION:2.0
PRODID:-//wp-events-plugin.com//6.6.4.4//EN
BEGIN:VEVENT
UID:511@a-mas.net
DTSTART:20240710T000000Z
DTEND:20240710T000000Z
DTSTAMP:20240701T084510Z
URL:https://a-mas.net/eventos/infinitolot-circ-a-la-placa/
SUMMARY:INFINIT | Olot-Circ a la Plaça
DESCRIPTION:Infinit de Seon\n\, 19:30h Plaza de Braus (Olot)
ATTACH;FMTTYPE=image/jpeg:https://a-mas.net/wp-content/uploads/2024/01/inf
 init-calle-1.jpg
CATEGORIES:Circo,Público joven y adulto
END:VEVENT
END:VCALENDAR