BEGIN:VCALENDAR
VERSION:2.0
PRODID:-//wp-events-plugin.com//6.6.4.4//EN
BEGIN:VEVENT
UID:959@a-mas.net
DTSTART:20250222T000000Z
DTEND:20250222T000000Z
DTSTAMP:20250129T083326Z
URL:https://a-mas.net/eventos/la-maestra-calpe/
SUMMARY:LA MAESTRA | Calpe
DESCRIPTION:La Maestra de  Anita Maravillas\n\, 18:30h Auditorio Casa de C
 ultura Jaume Pastor i Fluixà de Calp
ATTACH;FMTTYPE=image/jpeg:https://a-mas.net/wp-content/uploads/2024/04/la-
 maestra-princ.jpg
CATEGORIES:Público infantil y familiar,Teatro,Títeres
END:VEVENT
END:VCALENDAR