BEGIN:VCALENDAR
VERSION:2.0
PRODID:-//wp-events-plugin.com//6.6.4.4//EN
BEGIN:VEVENT
UID:974@a-mas.net
DTSTART:20250305T000000Z
DTEND:20250305T000000Z
DTSTAMP:20250224T102922Z
URL:https://a-mas.net/eventos/lazaro-torrent/
SUMMARY:LÁZARO | Torrent
DESCRIPTION:Lázaro  de Leamok (versión larga)\n\, ESCOLARES 10:30h Audit
 ori de Torrent
ATTACH;FMTTYPE=image/jpeg:https://a-mas.net/wp-content/uploads/2023/01/laz
 aro-galeria-1.jpg
CATEGORIES:Público joven y adulto,Teatro
END:VEVENT
END:VCALENDAR