BEGIN:VCALENDAR
VERSION:2.0
PRODID:-//wp-events-plugin.com//6.6.4.4//EN
BEGIN:VEVENT
UID:240@a-mas.net
DTSTART:20231019T000000Z
DTEND:20231020T000000Z
DTSTAMP:20231011T095422Z
URL:https://a-mas.net/eventos/lazuz-fiet/
SUMMARY:Lazuz · FIET
DESCRIPTION:FIET - Fira de teatre infantil i juvenil de les Illes Balears\n
 COMPAÑÍA: Lazuz Company
ATTACH;FMTTYPE=image/jpeg:https://a-mas.net/wp-content/uploads/2023/01/laz
 uz-galeria-2.jpg
CATEGORIES:Circo,Público infantil y familiar
END:VEVENT
END:VCALENDAR