BEGIN:VCALENDAR
VERSION:2.0
PRODID:-//wp-events-plugin.com//6.6.4.4//EN
BEGIN:VEVENT
UID:159@a-mas.net
DTSTART:20230729T000000Z
DTEND:20230729T000000Z
DTSTAMP:20230713T194803Z
URL:https://a-mas.net/eventos/mana-fresca/
SUMMARY:Maña · Festival Fresca!
DESCRIPTION:Festival Fresca! Alicante\nCOMPAÑÍA: Manolo Alcántara
ATTACH;FMTTYPE=image/jpeg:https://a-mas.net/wp-content/uploads/2023/01/man
 a-principal.jpg
CATEGORIES:Circo,Todos los públicos
END:VEVENT
END:VCALENDAR