BEGIN:VCALENDAR
VERSION:2.0
PRODID:-//wp-events-plugin.com//6.6.4.4//EN
BEGIN:VEVENT
UID:608@a-mas.net
DTSTART:20240918T000000Z
DTEND:20240918T000000Z
DTSTAMP:20240911T072650Z
URL:https://a-mas.net/eventos/mana-mim-sueca/
SUMMARY:MAÑA | MIM SUECA
DESCRIPTION:Maña de Manolo Alcántara\n\,  21h Molí del Pasiego\n
ATTACH;FMTTYPE=image/jpeg:https://a-mas.net/wp-content/uploads/2023/01/man
 a-galeria-3.jpg
CATEGORIES:Circo,Público joven y adulto
END:VEVENT
END:VCALENDAR