BEGIN:VCALENDAR
VERSION:2.0
PRODID:-//wp-events-plugin.com//6.6.4.4//EN
BEGIN:VEVENT
UID:133@a-mas.net
DTSTART:20230705T000000Z
DTEND:20230705T000000Z
DTSTAMP:20230713T184114Z
URL:https://a-mas.net/eventos/mar-palma/
SUMMARY:Mar · Feria Palma del Río
DESCRIPTION:5 de julio\nFeria de Palma del Río\, Córdoba
ATTACH;FMTTYPE=image/jpeg:https://a-mas.net/wp-content/uploads/2023/01/mar
 -rebe-principal.jpg
CATEGORIES:Circo,Público joven y adulto
END:VEVENT
END:VCALENDAR