BEGIN:VCALENDAR
VERSION:2.0
PRODID:-//wp-events-plugin.com//6.6.4.4//EN
BEGIN:VEVENT
UID:343@a-mas.net
DTSTART:20240217T000000Z
DTEND:20240217T000000Z
DTSTAMP:20240119T125752Z
URL:https://a-mas.net/eventos/mauthausen-roa/
SUMMARY:Mauthausen · Roa de Duero
DESCRIPTION:Auditorio Centro Cívico "Villa de Roa"\nCOMPAÑÍA: Trajín Te
 atro
ATTACH;FMTTYPE=image/jpeg:https://a-mas.net/wp-content/uploads/2023/04/mau
 thausen-galeria-1.jpg
CATEGORIES:Público joven y adulto,Teatro
END:VEVENT
END:VCALENDAR