BEGIN:VCALENDAR
VERSION:2.0
PRODID:-//wp-events-plugin.com//6.6.4.4//EN
BEGIN:VEVENT
UID:843@a-mas.net
DTSTART:20241231T000000Z
DTEND:20241231T000000Z
DTSTAMP:20241227T091437Z
URL:https://a-mas.net/eventos/nacho-diago-feretes-cullera/
SUMMARY:NACHO DIAGO |  Cullera
DESCRIPTION:NACHO DIAGO de Nacho Diago\n\, 11:15 h Paseo Dr. Alemany\, Cull
 era
ATTACH;FMTTYPE=image/jpeg:https://a-mas.net/wp-content/uploads/2024/05/noc
 illa-galeria-2.jpg
CATEGORIES:Magia,Todos los públicos
END:VEVENT
END:VCALENDAR