BEGIN:VCALENDAR
VERSION:2.0
PRODID:-//wp-events-plugin.com//6.6.4.4//EN
BEGIN:VEVENT
UID:58@a-mas.net
DTSTART:20230430T103000Z
DTEND:20230430T113000Z
DTSTAMP:20230427T183254Z
URL:https://a-mas.net/eventos/nacho-diago-feretes-i-canconetes/
SUMMARY:Nacho Diago | Feretes i Cançonetes
DESCRIPTION:NACHO DIAGO\nFestival Feretes i Cançonetes 2023\, Catarroja\, 
 València. 30 de abril\, 10:30h.\nMagia\, teatro | Público infantil y fam
 iliar (+ 6 años)
ATTACH;FMTTYPE=image/jpeg:https://a-mas.net/wp-content/uploads/2023/01/pop
 -arte-de-magia-1.jpg
CATEGORIES:Magia,Público infantil y familiar,Teatro,Todos los públicos
LOCATION:Parc del Secanet\, Camí de Santa Ana\, 10\, Catarroja\, 46470\, E
 spaña
X-APPLE-STRUCTURED-LOCATION;VALUE=URI;X-ADDRESS=Camí de Santa Ana\, 10\, C
 atarroja\, 46470\, España;X-APPLE-RADIUS=100;X-TITLE=Parc del Secanet:geo
 :0,0
END:VEVENT
END:VCALENDAR