BEGIN:VCALENDAR
VERSION:2.0
PRODID:-//wp-events-plugin.com//6.6.4.4//EN
BEGIN:VEVENT
UID:112@a-mas.net
DTSTART:20230603T000000Z
DTEND:20230603T000000Z
DTSTAMP:20230522T172526Z
URL:https://a-mas.net/eventos/nacho-diago-vall/
SUMMARY:Nacho Diago · La Vall d'Uixò
DESCRIPTION:Sábado\, 3 de junio · 18:30 horas\nFinal del Certamen de Lect
 ura "En veu alta"\, La Vall d'Uixò
ATTACH;FMTTYPE=image/jpeg:https://a-mas.net/wp-content/uploads/2023/01/pop
 -arte-de-magia-1.jpg
CATEGORIES:Magia,Público infantil y familiar,Teatro
END:VEVENT
END:VCALENDAR