BEGIN:VCALENDAR
VERSION:2.0
PRODID:-//wp-events-plugin.com//6.6.4.4//EN
BEGIN:VEVENT
UID:683@a-mas.net
DTSTART:20241011T000000Z
DTEND:20241011T000000Z
DTSTAMP:20240926T110004Z
URL:https://a-mas.net/eventos/nilu-fiestas-del-pilar/
SUMMARY:NILU | Fiestas del Pilar
DESCRIPTION:Nilu de Cía. Infinit (calle)\n\,  19h en Anfiteatro Residenci
 a Xior ( Zaragoza)
ATTACH;FMTTYPE=image/jpeg:https://a-mas.net/wp-content/uploads/2023/12/nil
 u-cia-infinit-4.jpg
CATEGORIES:Circo,Magia,Público infantil y familiar,Público
 Infantil/Juvenil
END:VEVENT
END:VCALENDAR