BEGIN:VCALENDAR
VERSION:2.0
PRODID:-//wp-events-plugin.com//6.6.4.4//EN
BEGIN:VEVENT
UID:630@a-mas.net
DTSTART:20240921T000000Z
DTEND:20240921T000000Z
DTSTAMP:20240921T074630Z
URL:https://a-mas.net/eventos/nilu-mim-sueca/
SUMMARY:NILU | MIM SUECA
DESCRIPTION:Nilu de Cía. Infinit\n\,  12:30h Casal Jove
ATTACH;FMTTYPE=image/jpeg:https://a-mas.net/wp-content/uploads/2023/12/nil
 u-cia-infinit-4.jpg
CATEGORIES:Circo,Magia,Público infantil y familiar,Público
 Infantil/Juvenil
END:VEVENT
END:VCALENDAR