BEGIN:VCALENDAR
VERSION:2.0
PRODID:-//wp-events-plugin.com//6.6.4.4//EN
BEGIN:VEVENT
UID:104@a-mas.net
DTSTART:20230521T000000Z
DTEND:20230521T000000Z
DTSTAMP:20230516T184825Z
URL:https://a-mas.net/eventos/nuez-guadalajara/
SUMMARY:Soy una nuez · Guadalajara
DESCRIPTION:Domingo\, 21 de mayo · 18:30 horas\nTeatro Moderno\, Guadalaja
 ra\n\n\nINFORMACIÓN SOBRE EL ESPECTÁCULO
ATTACH;FMTTYPE=image/jpeg:https://a-mas.net/wp-content/uploads/2023/01/nue
 z-galeria-2.jpg
CATEGORIES:Público infantil y familiar,Teatro
END:VEVENT
END:VCALENDAR