BEGIN:VCALENDAR
VERSION:2.0
PRODID:-//wp-events-plugin.com//6.6.4.4//EN
BEGIN:VEVENT
UID:151@a-mas.net
DTSTART:20230720T000000Z
DTEND:20230720T000000Z
DTSTAMP:20230713T193524Z
URL:https://a-mas.net/eventos/ojana-cirqueando/
SUMMARY:Sin Ojana · Cirqueando
DESCRIPTION:Festival Cirqueando\, Cercedilla\, Madrid\nCOMPAÑÍA: Chicharr
 ón Circo Flamenco
ATTACH;FMTTYPE=image/jpeg:https://a-mas.net/wp-content/uploads/2023/01/sin
 -ojana-galeria-2.jpg
CATEGORIES:Circo,Flamenco,Público joven y adulto
END:VEVENT
END:VCALENDAR