BEGIN:VCALENDAR
VERSION:2.0
PRODID:-//wp-events-plugin.com//6.6.4.4//EN
BEGIN:VEVENT
UID:50@a-mas.net
DTSTART:20230430T190000Z
DTEND:20230430T195000Z
DTSTAMP:20230320T201016Z
URL:https://a-mas.net/eventos/persepolis-tarragona/
SUMMARY:El conte de Persèpolis | Tarragona
DESCRIPTION:EL CONTE DE PERSÈPOLIS\, de La Coja Dansa\nTeatre Tarragona\, 
 Tarragona. 30 de abril\, 19:00h.\nDanza contemporánea\, videomapping | P
 úblico infantil y familiar (de 6 a 12 años) | 50 minutos\n\nSINOPSIS: Un
 a historia de ciencia ficción para imaginar mundos alternativos. Dos niñ
 as de diferentes planetas encuentran el libro de Persépolis\, de Marjane
  Satrapi. Su lectura les generará preguntas sobre la situación de las mu
 jeres en la Historia. A partir de aquí\, ambas emprenderán un viaje por 
 el espacio y el tiempo que les llevará a encontrarse en un punto común. 
 Con El cuento de Persépolis\, La Coja Dansa quiere rendir homenaje a las
  escritoras de ciencia ficción que con sus obras literarias han cuestiona
 do\, desde los márgenes\, el estatus de las mujeres y sus constantes pér
 didas de derechos. Un montaje de extraordinaria belleza con un ritmo adecu
 ado para las ávidas miradas de la infancia. Una pieza donde confluyen el 
 cómic\, la danza\, el videomapping y el cine con unos resultados sorprend
 entes.
ATTACH;FMTTYPE=image/jpeg:https://a-mas.net/wp-content/uploads/2023/01/per
 sepolis-principal.jpg
CATEGORIES:Danza,Público infantil y familiar
LOCATION:Teatre Tarragona\, Rambla Nova\, 11\, Tarragona\, 43003\, España
X-APPLE-STRUCTURED-LOCATION;VALUE=URI;X-ADDRESS=Rambla Nova\, 11\, Tarragon
 a\, 43003\, España;X-APPLE-RADIUS=100;X-TITLE=Teatre Tarragona:geo:0,0
END:VEVENT
END:VCALENDAR