BEGIN:VCALENDAR
VERSION:2.0
PRODID:-//wp-events-plugin.com//6.6.4.4//EN
BEGIN:VEVENT
UID:898@a-mas.net
DTSTART:20250130T000000Z
DTEND:20250131T000000Z
DTSTAMP:20250103T121103Z
URL:https://a-mas.net/eventos/princeses-cavallers-i-dracs-valencia-2/
SUMMARY:Princeses\, cavallers i dracs | Valencia
DESCRIPTION:Princeses\, cavallers i dracs. El dia que deixàrem de ser xiqu
 ets de Bramant Teatre\n\, 10h y 12h en Nau Ribes espai cultural(escolares)
ATTACH;FMTTYPE=image/jpeg:https://a-mas.net/wp-content/uploads/2024/01/PRI
 NCESES-5.jpg
END:VEVENT
END:VCALENDAR