BEGIN:VCALENDAR
VERSION:2.0
PRODID:-//wp-events-plugin.com//6.6.4.4//EN
BEGIN:VEVENT
UID:237@a-mas.net
DTSTART:20231021T000000Z
DTEND:20231021T000000Z
DTSTAMP:20231011T094837Z
URL:https://a-mas.net/eventos/roda-prismatica/
SUMMARY:Roda · Festival Prismática
DESCRIPTION:Festival Prismática\, Zarra\nCOMPAÑÍA: Marea Danza
ATTACH;FMTTYPE=image/jpeg:https://a-mas.net/wp-content/uploads/2023/01/rod
 a-galeria-2.jpg
CATEGORIES:Danza,Público joven y adulto
END:VEVENT
END:VCALENDAR