BEGIN:VCALENDAR
VERSION:2.0
PRODID:-//wp-events-plugin.com//6.6.4.4//EN
BEGIN:VEVENT
UID:378@a-mas.net
DTSTART:20240411T000000Z
DTEND:20240411T000000Z
DTSTAMP:20240411T154638Z
URL:https://a-mas.net/eventos/segle-paiporta/
SUMMARY:Un segle d'abismes · Paiporta
DESCRIPTION:COMPAÑÍA: Russafa Escènica + Bramant Teatre
ATTACH;FMTTYPE=image/jpeg:https://a-mas.net/wp-content/uploads/2023/01/abi
 smos-galeria-2.jpg
CATEGORIES:Público joven y adulto,Teatro
END:VEVENT
END:VCALENDAR