BEGIN:VCALENDAR
VERSION:2.0
PRODID:-//wp-events-plugin.com//6.6.4.4//EN
BEGIN:VEVENT
UID:490@a-mas.net
DTSTART:20240704T000000Z
DTEND:20240704T000000Z
DTSTAMP:20240628T092221Z
URL:https://a-mas.net/eventos/sin-ojana-el-almedinilla/
SUMMARY:SIN OJANA |  Almedinilla
DESCRIPTION:SIN OJANA  de Chicharrón Circo Flamenco\n\, 22h Pistas de Pol
 ideportivo del C.P rural “Tiñosa” ( Almedinilla)
ATTACH;FMTTYPE=image/jpeg:https://a-mas.net/wp-content/uploads/2023/01/sin
 -ojana-galeria-2.jpg
CATEGORIES:Circo,Flamenco,Público joven y adulto
END:VEVENT
END:VCALENDAR