BEGIN:VCALENDAR
VERSION:2.0
PRODID:-//wp-events-plugin.com//6.6.4.4//EN
BEGIN:VEVENT
UID:235@a-mas.net
DTSTART:20231015T000000Z
DTEND:20231015T000000Z
DTSTAMP:20231011T094526Z
URL:https://a-mas.net/eventos/so-nodul/
SUMMARY:Só · Festival Nòdul
DESCRIPTION:Festival Nòdul\, Gavarda\nCOMPAÑÍA: Xampatito Pato
ATTACH;FMTTYPE=image/jpeg:https://a-mas.net/wp-content/uploads/2023/01/so-
 galeria-1.jpg
CATEGORIES:Circo,Público infantil y familiar
END:VEVENT
END:VCALENDAR