BEGIN:VCALENDAR
VERSION:2.0
PRODID:-//wp-events-plugin.com//6.6.4.4//EN
BEGIN:VEVENT
UID:340@a-mas.net
DTSTART:20240207T000000Z
DTEND:20240207T000000Z
DTSTAMP:20240119T124254Z
URL:https://a-mas.net/eventos/suerte-zaragoza/
SUMMARY:La Suerte · Zaragoza
DESCRIPTION:Teatro de las Esquinas\, Zaragoza\nCOMPAÑÍA: Pérez&amp\;Disl
 a
ATTACH;FMTTYPE=image/jpeg:https://a-mas.net/wp-content/uploads/2023/01/la-
 suerte-galeria-1.jpg
CATEGORIES:Público joven y adulto,Teatro
END:VEVENT
END:VCALENDAR