BEGIN:VCALENDAR
VERSION:2.0
PRODID:-//wp-events-plugin.com//6.6.4.4//EN
BEGIN:VEVENT
UID:163@a-mas.net
DTSTART:20230801T000000Z
DTEND:20230801T000000Z
DTSTAMP:20230805T171107Z
URL:https://a-mas.net/eventos/tropico-vila-joiosa/
SUMMARY:Trópico · La Vila Joiosa
DESCRIPTION:La Vila Joiosa\nCOMPAÑÍA: Marroch
ATTACH;FMTTYPE=image/jpeg:https://a-mas.net/wp-content/uploads/2023/01/tro
 pico-galeria-3-1.jpg
CATEGORIES:Danza,Público joven y adulto
END:VEVENT
END:VCALENDAR