BEGIN:VCALENDAR
VERSION:2.0
PRODID:-//wp-events-plugin.com//6.6.4.4//EN
BEGIN:VEVENT
UID:780@a-mas.net
DTSTART:20241130T000000Z
DTEND:20241130T000000Z
DTSTAMP:20241130T084244Z
URL:https://a-mas.net/eventos/version-valencia-castellar-oliveral/
SUMMARY:VERSIÓN | Valencia Castellar-Oliveral
DESCRIPTION:Versión de Toni Agustí\n\, 19h Sala L'Horta
ATTACH;FMTTYPE=image/jpeg:https://a-mas.net/wp-content/uploads/2023/01/ver
 sion-principal.jpg
CATEGORIES:Público joven y adulto,Teatro
END:VEVENT
END:VCALENDAR