BEGIN:VCALENDAR
VERSION:2.0
PRODID:-//wp-events-plugin.com//6.6.4.4//EN
BEGIN:VEVENT
UID:242@a-mas.net
DTSTART:20231019T000000Z
DTEND:20231019T000000Z
DTSTAMP:20231011T095715Z
URL:https://a-mas.net/eventos/viva-castello/
SUMMARY:Viva · Castelló
DESCRIPTION:Teatre Principal de Castelló\nCOMPAÑÍA: Begoña Tena
ATTACH;FMTTYPE=image/jpeg:https://a-mas.net/wp-content/uploads/2023/02/viv
 a-tena-galeria-2.jpg
CATEGORIES:Público joven y adulto,Teatro
END:VEVENT
END:VCALENDAR