BEGIN:VCALENDAR
VERSION:2.0
PRODID:-//wp-events-plugin.com//6.6.4.4//EN
BEGIN:VEVENT
UID:258@a-mas.net
DTSTART:20231026T000000Z
DTEND:20231029T000000Z
DTSTAMP:20231011T110258Z
URL:https://a-mas.net/eventos/viva-ultramar-valencia/
SUMMARY:Viva · València
DESCRIPTION:Sala Ultramar\, València\nCOMPAÑÍA: Begoña Tena
ATTACH;FMTTYPE=image/jpeg:https://a-mas.net/wp-content/uploads/2023/02/viv
 a-tena-principal.jpg
CATEGORIES:Público joven y adulto,Teatro
END:VEVENT
END:VCALENDAR