BEGIN:VCALENDAR
VERSION:2.0
PRODID:-//wp-events-plugin.com//6.6.4.4//EN
BEGIN:VEVENT
UID:352@a-mas.net
DTSTART:20240218T000000Z
DTEND:20240218T000000Z
DTSTAMP:20240119T131953Z
URL:https://a-mas.net/eventos/win-pucol/
SUMMARY:Win Win · Puçol
DESCRIPTION:Puçol\, València\nCOMPAÑÍA: La Negra
ATTACH;FMTTYPE=image/jpeg:https://a-mas.net/wp-content/uploads/2023/01/win
 -win-11.png
CATEGORIES:Público joven y adulto,Teatro
END:VEVENT
END:VCALENDAR