BEGIN:VCALENDAR
VERSION:2.0
PRODID:-//wp-events-plugin.com//6.6.4.4//EN
BEGIN:VEVENT
UID:496@a-mas.net
DTSTART:20240809T000000Z
DTEND:20240809T000000Z
DTSTAMP:20240709T190917Z
URL:https://a-mas.net/eventos/win-win-chovar/
SUMMARY:WIN WIN | Chóvar
DESCRIPTION:WIN WIN  de La Negra\n\, 22:30h Polideportivo Chóvar
ATTACH;FMTTYPE=image/jpeg:https://a-mas.net/wp-content/uploads/2023/01/win
 -win-15.png
CATEGORIES:Público joven y adulto,Teatro
END:VEVENT
END:VCALENDAR