BEGIN:VCALENDAR
VERSION:2.0
PRODID:-//wp-events-plugin.com//6.6.4.4//EN
BEGIN:VEVENT
UID:892@a-mas.net
DTSTART:20241025T000000Z
DTEND:20241025T000000Z
DTSTAMP:20250103T115553Z
URL:https://a-mas.net/eventos/yo-soy-451-el-campello/
SUMMARY:YO SOY 451  |  El Campello
DESCRIPTION:Yo soy 451 de La Teta Calva\n\, 19:30h en Casa de Cultura de El
  Campello. Auditorio Pedro Vaello\n\n&nbsp\;\n
ATTACH;FMTTYPE=image/jpeg:https://a-mas.net/wp-content/uploads/2024/01/yo-
 soy-cartel.jpg
CATEGORIES:Público joven y adulto,Teatro
END:VEVENT
END:VCALENDAR